BEGIN:VCALENDAR
VERSION:2.0
PRODID:-//Centre LGBTQI+ de Vendée - ECPv6.15.20//NONSGML v1.0//EN
CALSCALE:GREGORIAN
METHOD:PUBLISH
X-WR-CALNAME:Centre LGBTQI+ de Vendée
X-ORIGINAL-URL:https://centre-lgbt-de-vendee.org
X-WR-CALDESC:Évènements pour Centre LGBTQI+ de Vendée
REFRESH-INTERVAL;VALUE=DURATION:PT1H
X-Robots-Tag:noindex
X-PUBLISHED-TTL:PT1H
BEGIN:VTIMEZONE
TZID:Europe/Paris
BEGIN:DAYLIGHT
TZOFFSETFROM:+0100
TZOFFSETTO:+0200
TZNAME:CEST
DTSTART:20220327T010000
END:DAYLIGHT
BEGIN:STANDARD
TZOFFSETFROM:+0200
TZOFFSETTO:+0100
TZNAME:CET
DTSTART:20221030T010000
END:STANDARD
BEGIN:DAYLIGHT
TZOFFSETFROM:+0100
TZOFFSETTO:+0200
TZNAME:CEST
DTSTART:20230326T010000
END:DAYLIGHT
BEGIN:STANDARD
TZOFFSETFROM:+0200
TZOFFSETTO:+0100
TZNAME:CET
DTSTART:20231029T010000
END:STANDARD
BEGIN:DAYLIGHT
TZOFFSETFROM:+0100
TZOFFSETTO:+0200
TZNAME:CEST
DTSTART:20240331T010000
END:DAYLIGHT
BEGIN:STANDARD
TZOFFSETFROM:+0200
TZOFFSETTO:+0100
TZNAME:CET
DTSTART:20241027T010000
END:STANDARD
END:VTIMEZONE
BEGIN:VEVENT
DTSTART;TZID=Europe/Paris:20230628T183000
DTEND;TZID=Europe/Paris:20230628T203000
DTSTAMP:20260422T052443
CREATED:20230601T140054Z
LAST-MODIFIED:20230601T140054Z
UID:347-1687977000-1687984200@centre-lgbt-de-vendee.org
SUMMARY:Groupe de parole
DESCRIPTION:Le thème de discussion du groupe de parole de ce jour sera « Parentalités familles ». \nCes groupes de parole sont réservés aux adhérents du Centre mais vous pouvez assister à une séance. \nUne inscription auparavant est nécessaire. Pour cela\, contacter le centre soit par mail ou téléphone ou en venant à un Rainbow Café.
URL:https://centre-lgbt-de-vendee.org/event/groupe-de-parole-2/
LOCATION:Local du Centre LGBT Vendée\, 71\, Boulevard Aristide Briand\, La Roche-sur-Yon\, 85000\, France
CATEGORIES:groupe de parole
END:VEVENT
END:VCALENDAR