BEGIN:VCALENDAR
VERSION:2.0
PRODID:-//Centre LGBTQI+ de Vendée - ECPv6.15.20//NONSGML v1.0//EN
CALSCALE:GREGORIAN
METHOD:PUBLISH
X-ORIGINAL-URL:https://centre-lgbt-de-vendee.org
X-WR-CALDESC:Évènements pour Centre LGBTQI+ de Vendée
REFRESH-INTERVAL;VALUE=DURATION:PT1H
X-Robots-Tag:noindex
X-PUBLISHED-TTL:PT1H
BEGIN:VTIMEZONE
TZID:Europe/Paris
BEGIN:DAYLIGHT
TZOFFSETFROM:+0100
TZOFFSETTO:+0200
TZNAME:CEST
DTSTART:20230326T010000
END:DAYLIGHT
BEGIN:STANDARD
TZOFFSETFROM:+0200
TZOFFSETTO:+0100
TZNAME:CET
DTSTART:20231029T010000
END:STANDARD
BEGIN:DAYLIGHT
TZOFFSETFROM:+0100
TZOFFSETTO:+0200
TZNAME:CEST
DTSTART:20240331T010000
END:DAYLIGHT
BEGIN:STANDARD
TZOFFSETFROM:+0200
TZOFFSETTO:+0100
TZNAME:CET
DTSTART:20241027T010000
END:STANDARD
BEGIN:DAYLIGHT
TZOFFSETFROM:+0100
TZOFFSETTO:+0200
TZNAME:CEST
DTSTART:20250330T010000
END:DAYLIGHT
BEGIN:STANDARD
TZOFFSETFROM:+0200
TZOFFSETTO:+0100
TZNAME:CET
DTSTART:20251026T010000
END:STANDARD
END:VTIMEZONE
BEGIN:VEVENT
DTSTART;TZID=Europe/Paris:20241214T100000
DTEND;TZID=Europe/Paris:20241214T120000
DTSTAMP:20260420T173252
CREATED:20241110T222625Z
LAST-MODIFIED:20241110T223038Z
UID:676-1734170400-1734177600@centre-lgbt-de-vendee.org
SUMMARY:Rainbow Café
DESCRIPTION:Venez nous rencontrer autour d’une boisson chaude offerte. \nDes livres\, DVD sont disponibles pour lire sur place ou à emprunter.
URL:https://centre-lgbt-de-vendee.org/event/rainbow-cafe-20241214/
LOCATION:Local du Centre LGBT Vendée\, 71\, Boulevard Aristide Briand\, La Roche-sur-Yon\, 85000\, France
CATEGORIES:Rainbow Café
END:VEVENT
BEGIN:VEVENT
DTSTART;TZID=Europe/Paris:20241214T190000
DTEND;TZID=Europe/Paris:20241214T230000
DTSTAMP:20260420T173252
CREATED:20241110T232154Z
LAST-MODIFIED:20241126T094205Z
UID:688-1734202800-1734217200@centre-lgbt-de-vendee.org
SUMMARY:Soirée conviviale de Noël
DESCRIPTION:Soirée de Noël au foyer Tellier au Bourg-sous-La-roche-sur-Yon à côté de l’église. La salle sera ouverte à partir de 19h. \nCe sera un repas partagé pour un bon moment de convivialité. Apporte ton plat pour faire goûter tes talents culinaires ou pas ^^. Il y aura des boisson sur place. Une pré-inscription est fortement recommandée. Envoyez la à l’adresse e-mail du Centre.
URL:https://centre-lgbt-de-vendee.org/event/soiree-conviviale-de-noel/
LOCATION:Foyer Teillet\, rue Emile-Baumann\, Bourg-sous-la-Roche-sur-Yon\, 85191\, France
CATEGORIES:conviviale
END:VEVENT
END:VCALENDAR